BEGIN:VCALENDAR
VERSION:2.0
PRODID:-//The Syracuse Orchestra - ECPv4.9.4//NONSGML v1.0//EN
CALSCALE:GREGORIAN
METHOD:PUBLISH
X-WR-CALNAME:The Syracuse Orchestra
X-ORIGINAL-URL:https://syracuseorchestra.org
X-WR-CALDESC:Events for The Syracuse Orchestra
BEGIN:VTIMEZONE
TZID:"America/New_York"
BEGIN:DAYLIGHT
TZOFFSETFROM:-0500
TZOFFSETTO:-0400
TZNAME:EDT
DTSTART:20240310T070000
END:DAYLIGHT
BEGIN:STANDARD
TZOFFSETFROM:-0400
TZOFFSETTO:-0500
TZNAME:EST
DTSTART:20241103T060000
END:STANDARD
END:VTIMEZONE
BEGIN:VEVENT
DTSTART;TZID="America/New_York":20240428T150000
DTEND;TZID="America/New_York":20240428T150000
DTSTAMP:20260423T002901
CREATED:20230504T122259Z
LAST-MODIFIED:20240428T042955Z
UID:9117-1714316400-1714316400@syracuseorchestra.org
SUMMARY:BACH\, COPLAND\, AND SHOSTAKOVICH
DESCRIPTION:The Syracuse Orchestra welcomes back Monica Fosnaugh\, English horn player from the Detroit Symphony Orchestra\, to join principal trumpet John Raschella in a performance of Copland’s Quiet City. The work is bookended by Shostakovich’s Chamber Symphony at the start and Bach’s Orchestral Suite No. 4 in D Major to complete the afternoon. \n  \n\nPROGRAM\nSHOSTAKOVICH: Chamber Symphony\, Op. 110a \nCOPLAND: Quiet City \nJ.S. BACH: Orchestral Suite No.4 in D major\, BWV 1069  \n*NO INTERMISSION \n  \n\nThanks to our sponsors for this performance! \n\n
URL:https://syracuseorchestra.org/event/bach-copland-and-shostakovich/
LOCATION:Saint Paul’s Syracuse\, 220 East Fayette Street\, Syracuse\, NY\, 13202
CATEGORIES:Casual
ATTACH;FMTTYPE=image/jpeg:https://syracuseorchestra.org/wp-content/uploads/2023/04/CAS4-Fosnaugh-2000x1300.jpg
END:VEVENT
END:VCALENDAR