BEGIN:VCALENDAR
VERSION:2.0
PRODID:-//The Syracuse Orchestra - ECPv4.9.4//NONSGML v1.0//EN
CALSCALE:GREGORIAN
METHOD:PUBLISH
X-WR-CALNAME:The Syracuse Orchestra
X-ORIGINAL-URL:https://syracuseorchestra.org
X-WR-CALDESC:Events for The Syracuse Orchestra
BEGIN:VTIMEZONE
TZID:"America/New_York"
BEGIN:DAYLIGHT
TZOFFSETFROM:-0500
TZOFFSETTO:-0400
TZNAME:EDT
DTSTART:20210314T070000
END:DAYLIGHT
BEGIN:STANDARD
TZOFFSETFROM:-0400
TZOFFSETTO:-0500
TZNAME:EST
DTSTART:20211107T060000
END:STANDARD
END:VTIMEZONE
BEGIN:VEVENT
DTSTART;TZID="America/New_York":20210724T203000
DTEND;TZID="America/New_York":20210724T203000
DTSTAMP:20260424T170620
CREATED:20210623T052247Z
LAST-MODIFIED:20210721T122113Z
UID:6784-1627158600-1627158600@syracuseorchestra.org
SUMMARY:FAYETTEVILLE
DESCRIPTION:Bring a picnic\, and experience a magical evening under the stars with Symphoria performing in picturesque Beard Park in Fayetteville.   Please note: in the event of rain\, this performance will be moved to July 25th at 7:30pm. \n  \n\nPROGRAM\nO’LOUGHLIN: Star Spangled Banner\nGLINKA: Russlan & Ludmilla Overture\nLOWDEN: Disney Magic\nANDERSON: Serenata\nRICKETT: Highlights from Wicked\nCOHEN: Hallelujah\nLOWDEN: Armed Forces Salute\nGOULD: American Salute\nALFORD: Colonel Bogey March\nRODGERS: Carousel\, Selections\nSOUSA: Hail to the Spirit of Liberty March\nBERLIN/KRESA: God Bless America\nSOUSA: Stars and Stripes Forever \n  \n\nThanks to the Village of Fayetteville for presenting this concert! \nThanks to our concert sponsors! \n                          \n \n  \n \n \n
URL:https://syracuseorchestra.org/event/fayetteville/
LOCATION:Fayetteville Beard Park\, South Manlius Street and Lincoln Avenue\, Fayetteville\, NY\, 13066
CATEGORIES:Summer
ATTACH;FMTTYPE=image/jpeg:https://syracuseorchestra.org/wp-content/uploads/2021/06/FayettevilleSummerStage.jpg
END:VEVENT
END:VCALENDAR