BEGIN:VCALENDAR
VERSION:2.0
PRODID:-//The Syracuse Orchestra - ECPv4.9.4//NONSGML v1.0//EN
CALSCALE:GREGORIAN
METHOD:PUBLISH
X-WR-CALNAME:The Syracuse Orchestra
X-ORIGINAL-URL:https://syracuseorchestra.org
X-WR-CALDESC:Events for The Syracuse Orchestra
BEGIN:VTIMEZONE
TZID:"America/New_York"
BEGIN:DAYLIGHT
TZOFFSETFROM:-0500
TZOFFSETTO:-0400
TZNAME:EDT
DTSTART:20240310T070000
END:DAYLIGHT
BEGIN:STANDARD
TZOFFSETFROM:-0400
TZOFFSETTO:-0500
TZNAME:EST
DTSTART:20241103T060000
END:STANDARD
END:VTIMEZONE
BEGIN:VEVENT
DTSTART;TZID="America/New_York":20240515T180000
DTEND;TZID="America/New_York":20240515T180000
DTSTAMP:20260419T210925
CREATED:20231109T184258Z
LAST-MODIFIED:20240503T172409Z
UID:11207-1715796000-1715796000@syracuseorchestra.org
SUMMARY:THE SYRACUSE ORCHESTRA GALA IN HONOR OF DAVID A.A. RIDINGS
DESCRIPTION:Join The Syracuse Orchestra as we honor longtime orchestra supporter\, David A.A. Ridings. The Syracuse Orchestra Gala will include cocktails\, dinner and a full orchestra concert in the stunning Grand Ballroom at the Marriott Syracuse Downtown. \nDavid’s incredible commitment to CNY has helped our region in so many ways. As the president of the Syracuse Symphony Foundation\, his leadership has solidified the presence of a professional\, residential orchestra in CNY. We invite you to join us in honoring his many contributions to music and to CNY! Cocktail or formal attire is requested. \nThe Syracuse Orchestra Gala is SOLD OUT.\nTo be added to the waitlist\, please call The Syracuse Orchestra Box Office at (315) 299-5598.\nTo make a donation in honor of David A.A. Ridings\, please click the button below. All donations made by May 10 will be acknowledged in the gala program.\n \n  \n \nTicket Prices\nRed $1000\nYellow $800\nBlue $600\nGreen $400\nPurple $250 \n  \n  \nThe event includes a full open bar with hors d’oeuvres\, a 3-course dinner\, and a Syracuse Orchestra concert.  If you purchase a table\, we will contact you for your guests’ names. If you have any dietary restrictions please let us know before May 1\, 2024 by emailing Kelly Covert at kcovert@SyracuseOrchestra.org. \nMenu:\nBeef: Braised Beef Short Ribs\, Demi Glaze\, Served with Garlic Mashed Potatoes and Chef’s Seasonal Vegetable Medley\nFish: Pan Seared Salmon\, Citrus Beurre Blanc\, Served with Mushroom Risotto and Chef’s Seasonal Vegetable Medley\nPasta/Vegetarian/Vegan: Pasta Primavera\, with Grilled Vegetables and Olive Oil Drizzle \nAll options can be made gluten free. \nOrder of Events:\n6:00 PM\nCocktail Hour \n7:00 PM\nDinner \n7:35 PM\nHonoring of David A.A. Ridings & Fundraising\nRemarks by Pam Murchison\,The Syracuse Orchestra Executive Director \n8 PM\nThe Syracuse Orchestra Performs \n8:45 PM\nClosing Remarks\nMary Ann Tyszko\, The Syracuse Orchestra Board Chair \n  \n\nThanks to our generous sponsors! \n \n  \n \n  \n  \n  \n \n  \n  \n \n  \n  \n  \n  \n  \n \n \n  \n  \n  \n  \n  \n  \n \n \n  \n  \n \n
URL:https://syracuseorchestra.org/event/the-so-gala-in-honor-of-david-a-a-ridings/
LOCATION:The Grand Ballroom at The Marriott Syracuse Downtown\, 100 East Onondaga Street\, Syracuse\, NY\, 13202\, United States
ATTACH;FMTTYPE=image/jpeg:https://syracuseorchestra.org/wp-content/uploads/2023/03/downton-Abbey-concert-resized.jpg
END:VEVENT
END:VCALENDAR