BEGIN:VCALENDAR
VERSION:2.0
PRODID:-//The Syracuse Orchestra - ECPv4.9.4//NONSGML v1.0//EN
CALSCALE:GREGORIAN
METHOD:PUBLISH
X-WR-CALNAME:The Syracuse Orchestra
X-ORIGINAL-URL:https://syracuseorchestra.org
X-WR-CALDESC:Events for The Syracuse Orchestra
BEGIN:VTIMEZONE
TZID:"America/New_York"
BEGIN:DAYLIGHT
TZOFFSETFROM:-0500
TZOFFSETTO:-0400
TZNAME:EDT
DTSTART:20190310T070000
END:DAYLIGHT
BEGIN:STANDARD
TZOFFSETFROM:-0400
TZOFFSETTO:-0500
TZNAME:EST
DTSTART:20191103T060000
END:STANDARD
END:VTIMEZONE
BEGIN:VEVENT
DTSTART;TZID="America/New_York":20191005T153000
DTEND;TZID="America/New_York":20191005T153000
DTSTAMP:20260424T001619
CREATED:20190705T030926Z
LAST-MODIFIED:20190820T212236Z
UID:1227-1570289400-1570289400@syracuseorchestra.org
SUMMARY:SINATRA AND BEYOND
DESCRIPTION:Called “two parts Frank Sinatra and one part Billy Joel\,” the triple-threat singer/pianist/songwriter Tony DeSare takes on the legend of Ol’ Blue Eyes himself. From jazz clubs to Carnegie Hall to headlining with major symphony orchestras\, Tony DeSare delivers a fresh take on old school class in an outstanding\, critically-acclaimed tribute to the great Frank Sinatra that includes songs like Come Fly with Me\, I’ve Got the World On a String\, It Was A Very Good Year\, One for My Baby\, The Summer Wind\, I Get A Kick Out of You\, Night and Day\, New York\, New York\, My Way\, and so many more Sinatra classics. \n  \n\n  \nPROGRAM\nBLOOM & MERCER (Arr. Firth): Day in Day Out\nVAN HEUSEN & CAHN (arr. May): Come Fly With Me\nRODGERS & HART (arr. Barton): My Funny Valentine\nSTYNE & CAHN (arr. Barton): Just In Time\nDESARE (arr. Barton): How I Will Say I Love You\nCHARLES (Arr. DeSare & Firth): Hallelujah I Love Her So\nFRANCOIS & REVAUX (English lyrics by Anka): My Way\nPORTER (Arr. DeSare & Firth): Night & Day\nDRAKE (arr. Costa & Firth): It Was A Very Good Year\nBERLIN (arr. DeSare/Firth\, orch. Firth): I Love A Piano\nBARRY\, ROBIN & GIBB (arr. DeSare & Firth): How Deep Is Your Love\nDESARE (arr/orch. Firth): New Orleans Tango\nMERCER Something’s Gotta Give\nARLEN & MERCER (arr. Byers): One for My Baby\nARLEN & KOEHLER (Nelson Riddle): I’ve Got the World On A String\nVARIOUS (arr. Firth): Sinatra Medley \n  \n\n
URL:https://syracuseorchestra.org/event/sinatra-and-beyond/
LOCATION:Oncenter Crouse Hinds Theater\, 421 Montgomery St.\, Syracuse\, NY\, 13202
CATEGORIES:Pops
ATTACH;FMTTYPE=image/jpeg:https://syracuseorchestra.org/wp-content/uploads/2019/07/DeSareTest.jpg
END:VEVENT
END:VCALENDAR