BEGIN:VCALENDAR
VERSION:2.0
PRODID:-//The Syracuse Orchestra - ECPv4.9.4//NONSGML v1.0//EN
CALSCALE:GREGORIAN
METHOD:PUBLISH
X-WR-CALNAME:The Syracuse Orchestra
X-ORIGINAL-URL:https://syracuseorchestra.org
X-WR-CALDESC:Events for The Syracuse Orchestra
BEGIN:VTIMEZONE
TZID:"America/New_York"
BEGIN:DAYLIGHT
TZOFFSETFROM:-0500
TZOFFSETTO:-0400
TZNAME:EDT
DTSTART:20190310T070000
END:DAYLIGHT
BEGIN:STANDARD
TZOFFSETFROM:-0400
TZOFFSETTO:-0500
TZNAME:EST
DTSTART:20191103T060000
END:STANDARD
END:VTIMEZONE
BEGIN:VEVENT
DTSTART;TZID="America/New_York":20191103T150000
DTEND;TZID="America/New_York":20191103T150000
DTSTAMP:20260422T031512
CREATED:20190722T202431Z
LAST-MODIFIED:20191030T015510Z
UID:1836-1572793200-1572793200@syracuseorchestra.org
SUMMARY:BAROQUE & NEO-BAROQUE
DESCRIPTION:Baroque music is generally recognized as music written between 1600 and 1750. Neo-Baroque is anything written after that time that looks back to the styles and forms of the Baroque period. This concert features two Baroque works: the Vivaldi Concerto for Two Trumpets\, featuring Symphoria trumpet players John Raschella and Roy Smith\, and the Overture to Cephale et Procris by Élisabeth Jacquet de La Guerre\, possibly the first woman ever to have an opera performed in France! The remainder of the concert features works that look back to the Baroque but with their own sense of sound and style\, including Holst’s Fugal Concerto featuring flutist Xue Su and oboist Anna Peterson. \n  \n\nPROGRAM\nVIVALDI: Concerto\, 2 Trumpets\, RV 537\, C major \nPÄRT: Summa                                                            \nHOLST: A Fugal Concerto\, op.40\, no.2  \nJACQUET DE LA GUERRE: Overture to Cephale et Procris  \nGRIEG: Holberg Suite \nPIAZZOLLA: Fuga y misterio    \n  \n\n \n\n
URL:https://syracuseorchestra.org/event/baroque-neo-baroque/
LOCATION:Saint Paul’s Syracuse\, 220 East Fayette Street\, Syracuse\, NY\, 13202
CATEGORIES:Casual
ATTACH;FMTTYPE=image/jpeg:https://syracuseorchestra.org/wp-content/uploads/2019/07/1920Casual1.jpg
END:VEVENT
END:VCALENDAR