BEGIN:VCALENDAR
VERSION:2.0
PRODID:-//The Syracuse Orchestra - ECPv4.9.4//NONSGML v1.0//EN
CALSCALE:GREGORIAN
METHOD:PUBLISH
X-WR-CALNAME:The Syracuse Orchestra
X-ORIGINAL-URL:https://syracuseorchestra.org
X-WR-CALDESC:Events for The Syracuse Orchestra
BEGIN:VTIMEZONE
TZID:"America/New_York"
BEGIN:DAYLIGHT
TZOFFSETFROM:-0500
TZOFFSETTO:-0400
TZNAME:EDT
DTSTART:20200308T070000
END:DAYLIGHT
BEGIN:STANDARD
TZOFFSETFROM:-0400
TZOFFSETTO:-0500
TZNAME:EST
DTSTART:20201101T060000
END:STANDARD
END:VTIMEZONE
BEGIN:VEVENT
DTSTART;TZID="America/New_York":20201031T113000
DTEND;TZID="America/New_York":20201031T113000
DTSTAMP:20260419T235642
CREATED:20200819T014305Z
LAST-MODIFIED:20201029T011211Z
UID:5653-1604143800-1604143800@syracuseorchestra.org
SUMMARY:BEETHOVEN'S GHOST
DESCRIPTION:A spooktacularly musical Halloween with one of our favorite composers\, Beethoven! We’ll learn how his own music influenced music when his ghost visits other composers over the last 250 years. \nFor activities and additional information about this performance\, visit our concert guide HERE \n
URL:https://syracuseorchestra.org/event/beethovens-ghost/
LOCATION:Livestreamed Event\, Syracuse\, NY\, United States
CATEGORIES:Kids
ATTACH;FMTTYPE=image/jpeg:https://syracuseorchestra.org/wp-content/uploads/2020/08/2021-Kids-1.jpg
END:VEVENT
END:VCALENDAR