BEGIN:VCALENDAR
VERSION:2.0
PRODID:-//The Syracuse Orchestra - ECPv4.9.4//NONSGML v1.0//EN
CALSCALE:GREGORIAN
METHOD:PUBLISH
X-WR-CALNAME:The Syracuse Orchestra
X-ORIGINAL-URL:https://syracuseorchestra.org
X-WR-CALDESC:Events for The Syracuse Orchestra
BEGIN:VTIMEZONE
TZID:"America/New_York"
BEGIN:DAYLIGHT
TZOFFSETFROM:-0500
TZOFFSETTO:-0400
TZNAME:EDT
DTSTART:20250309T070000
END:DAYLIGHT
BEGIN:STANDARD
TZOFFSETFROM:-0400
TZOFFSETTO:-0500
TZNAME:EST
DTSTART:20251102T060000
END:STANDARD
END:VTIMEZONE
BEGIN:VEVENT
DTSTART;TZID="America/New_York":20251101T173000
DTEND;TZID="America/New_York":20251101T173000
DTSTAMP:20260420T082903
CREATED:20250813T135030Z
LAST-MODIFIED:20250909T165034Z
UID:15902-1762018200-1762018200@syracuseorchestra.org
SUMMARY:THE SYRACUSE ORCHESTRA INSIDERS EXPERIENCE
DESCRIPTION:Join us before Classical by Candlelight for the Insiders’ Experience downstairs in Inspiration Hall! Meet musicians playing in the concert and take an up close look at some of their instruments. Socialize and try a variety of canned cocktails and beers from Anheuser-Busch brewery with a custom Syracuse Orchestra koozie and a grazing station of delicious meats and cheeses from The Curd Nerd. Make your concert an evening as an Insider\, and enjoy reserved premium seating so you can relax and enjoy our pre-concert event. And the best part – at only $50 you get all this with your concert ticket! \nNote that the space is only accessible by one flight of stairs. This event is limited to 50 attendees. Although all ages are welcome for the concert\, this event is for ages 21 and older. \nClick here to learn more about Classical by Candlelight. \n\n\n\n\n\n\nYour price of $50 includes the above reception and concert ticket. \n\n\n\n\n\n\n\n
URL:https://syracuseorchestra.org/event/insidersexperience/
LOCATION:Inspiration Hall\, 709 James St.\, Syracuse\, NY\, 13203
CATEGORIES:Candlelight
ATTACH;FMTTYPE=image/png:https://syracuseorchestra.org/wp-content/uploads/2025/04/Candlelight-1.png
END:VEVENT
BEGIN:VEVENT
DTSTART;TZID="America/New_York":20251101T190000
DTEND;TZID="America/New_York":20251101T190000
DTSTAMP:20260420T082903
CREATED:20250421T161531Z
LAST-MODIFIED:20251101T222633Z
UID:15018-1762023600-1762023600@syracuseorchestra.org
SUMMARY:CLASSICAL BY CANDLELIGHT
DESCRIPTION:Join the Syracuse Orchestra for an unforgettable evening of classical music in the intimate glow of candlelight. This enchanting program blends romantic favorites and spirited selections\, performed at the gorgeous Inspiration Hall. \nTurn this concert into an all-in-one experience with The Syracuse Orchestra Insiders’ Experience at this concert. Click here to learn more! \n\nPROGRAM\nRUTH CRAWFORD SEEGER: Rissolty Rossolty\nMENDELSSOHN: Midsummer’s Night Dream Selections\nMASCAGNI: Cavalleria Rusticana\nDEBUSSY: Petit Suite\nDVORAK: Slavonic Dance No. 8 \n\nThank you to our generous sponsors!\nThank you to our series sponsors! \nCandlelight Series Title Sponsor: \n \n  \nCandlelight Series Title Sponsor: \n \nExclusive Auto Sponsor: \n \n  \n
URL:https://syracuseorchestra.org/event/classical-by-candlelight/
LOCATION:Inspiration Hall\, 709 James St.\, Syracuse\, NY\, 13203
CATEGORIES:Candlelight
ATTACH;FMTTYPE=image/png:https://syracuseorchestra.org/wp-content/uploads/2025/04/Candlelight-1.png
END:VEVENT
END:VCALENDAR