BEGIN:VCALENDAR
VERSION:2.0
PRODID:-//The Syracuse Orchestra - ECPv4.9.4//NONSGML v1.0//EN
CALSCALE:GREGORIAN
METHOD:PUBLISH
X-WR-CALNAME:The Syracuse Orchestra
X-ORIGINAL-URL:https://syracuseorchestra.org
X-WR-CALDESC:Events for The Syracuse Orchestra
BEGIN:VTIMEZONE
TZID:"America/New_York"
BEGIN:DAYLIGHT
TZOFFSETFROM:-0500
TZOFFSETTO:-0400
TZNAME:EDT
DTSTART:20190310T070000
END:DAYLIGHT
BEGIN:STANDARD
TZOFFSETFROM:-0400
TZOFFSETTO:-0500
TZNAME:EST
DTSTART:20191103T060000
END:STANDARD
END:VTIMEZONE
BEGIN:VEVENT
DTSTART;TZID="America/New_York":20191031T190000
DTEND;TZID="America/New_York":20191031T190000
DTSTAMP:20260420T024720
CREATED:20190722T203748Z
LAST-MODIFIED:20191027T170608Z
UID:1842-1572548400-1572548400@syracuseorchestra.org
SUMMARY:POE HALLOWEEN
DESCRIPTION:This adults-only concert is the perfect ghoulish evening for any Halloween lover.  Special guest Ruthnie Angrand (Rae Sunshine) will be featured with Edgar Allan Poe’s The Raven and other poetry selections.   Come in your scariest costumes\, enjoy light refreshments and a cash bar\, and try not to have any nightmares once you leave! \n  \n\nPROGRAM\nLIADOV: Baba Yaga\nGRIEG: Lyric Suite\, March of the Trolls\nBEETHOVEN: Sonata\, Op. 27\, No. 2 “Moonlight Sonata”\nChamber Music Selections\nHUMPERDINCK: Hansel & Gretel\, Witches Ride\nTCHAIKOVSKY: Sleeping Beauty Suite\, La Fée des lilas\nSAINT SAENS: Danse macabre\, Op. 40 \n  \n\n
URL:https://syracuseorchestra.org/event/poe-halloween/
LOCATION:RedHouse Arts Center\, 400 South Salina Street\, Syracuse\, NY\, 13202\, United States
CATEGORIES:Candlelight
ATTACH;FMTTYPE=image/jpeg:https://syracuseorchestra.org/wp-content/uploads/2019/07/1920Spark1.jpg
END:VEVENT
END:VCALENDAR