BEGIN:VCALENDAR
VERSION:2.0
PRODID:-//The Syracuse Orchestra - ECPv4.9.4//NONSGML v1.0//EN
CALSCALE:GREGORIAN
METHOD:PUBLISH
X-WR-CALNAME:The Syracuse Orchestra
X-ORIGINAL-URL:https://syracuseorchestra.org
X-WR-CALDESC:Events for The Syracuse Orchestra
BEGIN:VTIMEZONE
TZID:"America/New_York"
BEGIN:DAYLIGHT
TZOFFSETFROM:-0500
TZOFFSETTO:-0400
TZNAME:EDT
DTSTART:20230312T070000
END:DAYLIGHT
BEGIN:STANDARD
TZOFFSETFROM:-0400
TZOFFSETTO:-0500
TZNAME:EST
DTSTART:20231105T060000
END:STANDARD
END:VTIMEZONE
BEGIN:VEVENT
DTSTART;TZID="America/New_York":20230818T150000
DTEND;TZID="America/New_York":20230818T150000
DTSTAMP:20260420T015438
CREATED:20230713T200234Z
LAST-MODIFIED:20230817T140944Z
UID:10223-1692370800-1692370800@syracuseorchestra.org
SUMMARY:ALL TOGETHER NOW - OSWEGO LIBRARY CONCERTS
DESCRIPTION:Enjoy free string quartet concerts in Oswego County Libraries this summer with the Symphoria String Quartet! These concerts are presented in partnership with the North Country Library System’s 2023 summer reading program\, themed “All Together Now.” Families will experience an fun\, educational\, and interactive performance\, and have a chance to hang out with Symphoria musicians and questions. \nThank you to our sponsor for these programs! \n \n
URL:https://syracuseorchestra.org/event/all-together-now-oswego-library-concerts/
LOCATION:Oswego Public Library\, 120 E 2nd St\, Oswego\, Oswego\, NY\, 13126
CATEGORIES:Chamber Music,Kids
ATTACH;FMTTYPE=image/jpeg:https://syracuseorchestra.org/wp-content/uploads/2021/05/AdobeStock_37991692-STRINGS-e1689278466515.jpeg
END:VEVENT
END:VCALENDAR