BEGIN:VCALENDAR
VERSION:2.0
PRODID:-//The Syracuse Orchestra - ECPv4.9.4//NONSGML v1.0//EN
CALSCALE:GREGORIAN
METHOD:PUBLISH
X-WR-CALNAME:The Syracuse Orchestra
X-ORIGINAL-URL:https://syracuseorchestra.org
X-WR-CALDESC:Events for The Syracuse Orchestra
BEGIN:VTIMEZONE
TZID:"America/New_York"
BEGIN:DAYLIGHT
TZOFFSETFROM:-0500
TZOFFSETTO:-0400
TZNAME:EDT
DTSTART:20240310T070000
END:DAYLIGHT
BEGIN:STANDARD
TZOFFSETFROM:-0400
TZOFFSETTO:-0500
TZNAME:EST
DTSTART:20241103T060000
END:STANDARD
END:VTIMEZONE
BEGIN:VEVENT
DTSTART;TZID="America/New_York":20240203T103000
DTEND;TZID="America/New_York":20240203T103000
DTSTAMP:20260420T195556
CREATED:20230504T132928Z
LAST-MODIFIED:20240129T195843Z
UID:9143-1706956200-1706956200@syracuseorchestra.org
SUMMARY:PETER & THE WOLF
DESCRIPTION:\nSOLD OUT!\nSergei Prokofiev’s famous Peter and the Wolf is performed by Symphoria\, offering his “symphonic fairy tale for children.” \n\n  \n\nThanks to our sponsors for this performance! \n \n  \n  \n  \n  \n \n
URL:https://syracuseorchestra.org/event/peter-and-the-wolf/
LOCATION:RedHouse Arts Center\, 400 South Salina Street\, Syracuse\, NY\, 13202\, United States
CATEGORIES:Kids
ATTACH;FMTTYPE=image/png:https://syracuseorchestra.org/wp-content/uploads/2023/05/Peter-and-the-Wolf-Website-EventSOLDOUT.png
END:VEVENT
END:VCALENDAR