BEGIN:VCALENDAR
VERSION:2.0
PRODID:-//The Syracuse Orchestra - ECPv4.9.4//NONSGML v1.0//EN
CALSCALE:GREGORIAN
METHOD:PUBLISH
X-WR-CALNAME:The Syracuse Orchestra
X-ORIGINAL-URL:https://syracuseorchestra.org
X-WR-CALDESC:Events for The Syracuse Orchestra
BEGIN:VTIMEZONE
TZID:"America/New_York"
BEGIN:DAYLIGHT
TZOFFSETFROM:-0500
TZOFFSETTO:-0400
TZNAME:EDT
DTSTART:20210314T070000
END:DAYLIGHT
BEGIN:STANDARD
TZOFFSETFROM:-0400
TZOFFSETTO:-0500
TZNAME:EST
DTSTART:20211107T060000
END:STANDARD
END:VTIMEZONE
BEGIN:VEVENT
DTSTART;TZID="America/New_York":20211002T203000
DTEND;TZID="America/New_York":20211002T203000
DTSTAMP:20260423T162910
CREATED:20210615T025516Z
LAST-MODIFIED:20210928T125117Z
UID:6699-1633206600-1633206600@syracuseorchestra.org
SUMMARY:AUTUMN IN NEW YORK
DESCRIPTION:A musical journey with Syracuse saxophone superstar\, Joe Carello. \nPlease read our COVID policies here \n\nPROGRAM\nCUSTER: Duke Ellington!\nPARKER: Just Friends\nPARKER: Autumn in New York\nPARKER: What is This Thing Called Love\nMANCINI: Charade\nMANCINI: Pink Panther\nMANCINI: Peter Gunn\nCUSTER: A Salute to the Big Bands\nPARKER: Temptation\nGREEN: Body and Soul\nMANCINI: Strings on Fire\nGILLESPIE: A Night in Tunisia\nGERSHWIN: Summertime\nO’LOUGHLIN: Arachnology \n  \n\nPlease Note: Seating at Inspiration Hall may be limited due to Covid-19 restrictions\, and if restrictions are in place at the time of the concert\, we will make every effort to accommodate all patrons. If we are unable to accommodate in person attendance\, patrons may be offered an alternate concert date\, or a livestream option. \n
URL:https://syracuseorchestra.org/event/autumn-in-new-york-2/
LOCATION:Inspiration Hall\, 709 James St.\, Syracuse\, NY\, 13203
CATEGORIES:Pops
ATTACH;FMTTYPE=image/jpeg:https://syracuseorchestra.org/wp-content/uploads/2021/06/Pops1-Carello.jpg
END:VEVENT
END:VCALENDAR