BEGIN:VCALENDAR
VERSION:2.0
PRODID:-//The Syracuse Orchestra - ECPv4.9.4//NONSGML v1.0//EN
CALSCALE:GREGORIAN
METHOD:PUBLISH
X-WR-CALNAME:The Syracuse Orchestra
X-ORIGINAL-URL:https://syracuseorchestra.org
X-WR-CALDESC:Events for The Syracuse Orchestra
BEGIN:VTIMEZONE
TZID:"America/New_York"
BEGIN:DAYLIGHT
TZOFFSETFROM:-0500
TZOFFSETTO:-0400
TZNAME:EDT
DTSTART:20240310T070000
END:DAYLIGHT
BEGIN:STANDARD
TZOFFSETFROM:-0400
TZOFFSETTO:-0500
TZNAME:EST
DTSTART:20241103T060000
END:STANDARD
END:VTIMEZONE
BEGIN:VEVENT
DTSTART;TZID="America/New_York":20240703T200000
DTEND;TZID="America/New_York":20240703T200000
DTSTAMP:20260419T222523
CREATED:20240521T184547Z
LAST-MODIFIED:20240703T232043Z
UID:12918-1720036800-1720036800@syracuseorchestra.org
SUMMARY:SUMMER CONCERT: AUBURN
DESCRIPTION:\nThe Syracuse Orchestra performs at the pavilion at Emerson Park on the north shore of Owasco Lake. Enjoy light classical favorites\, patriotic tunes\, and popular standards. All ages are welcome for a relaxed evening of music followed by fireworks. This concert is free to attend and you do not need a ticket.\n\nRAIN DATE: July 7\, 8:00PM \n\nPROGRAM:\nSMITH: Star Spangled Banner\nSMETANA: Bartered Bride\, Overture\nCOPLAND: Variations on a Shaker Melody\nGRANT STILL: Symphony No. 1\, Mvt 3\nANDERSON: Blue Tango\nBERNSTEIN: West Side Story\, Overture\nLOWDEN: Armed Forces Salute\nINTERMISSION\nWILLIAMS: Summon The Heroes\nSOUSA: Presidential Polonaise\nVAN HEUSEN/LEWIS: Swinging on a Star\nCUSTER: Salute to the Big Bands\nWILLIAMS: Harry’s Wonderous World\nBERLIN/HEALY: God Bless America\nTCHAIKOVSKY: 1812 Overture \n  \n\nThanks to our Summer Concert Series sponsors! \n \n  \n  \n \n  \n  \n  \n \n  \n  \n  \n  \n  \n \n  \n  \n \n  \n  \n  \n  \n  \n  \n \n  \n  \n  \n  \n \n  \n  \n  \n  \n  \n  \n \n  \n  \n  \n  \n  \n  \n \n  \n  \n \n  \n  \n  \n \n  \n  \n  \n  \n \n  \n  \n
URL:https://syracuseorchestra.org/event/summer-concert-auburn/
LOCATION:Emerson Park\, 6914 East Lake Road\, Route 38A\, Auburn\, NY\, 13021
CATEGORIES:Summer
ATTACH;FMTTYPE=image/jpeg:https://syracuseorchestra.org/wp-content/uploads/2021/07/Auburn-Summer.jpg
END:VEVENT
END:VCALENDAR