BEGIN:VCALENDAR
VERSION:2.0
PRODID:-//The Syracuse Orchestra - ECPv4.9.4//NONSGML v1.0//EN
CALSCALE:GREGORIAN
METHOD:PUBLISH
X-WR-CALNAME:The Syracuse Orchestra
X-ORIGINAL-URL:https://syracuseorchestra.org
X-WR-CALDESC:Events for The Syracuse Orchestra
BEGIN:VTIMEZONE
TZID:"America/New_York"
BEGIN:DAYLIGHT
TZOFFSETFROM:-0500
TZOFFSETTO:-0400
TZNAME:EDT
DTSTART:20240310T070000
END:DAYLIGHT
BEGIN:STANDARD
TZOFFSETFROM:-0400
TZOFFSETTO:-0500
TZNAME:EST
DTSTART:20241103T060000
END:STANDARD
END:VTIMEZONE
BEGIN:VEVENT
DTSTART;TZID="America/New_York":20240724T190000
DTEND;TZID="America/New_York":20240724T190000
DTSTAMP:20260419T222523
CREATED:20240521T190612Z
LAST-MODIFIED:20240708T203106Z
UID:12927-1721847600-1721847600@syracuseorchestra.org
SUMMARY:SUMMER CONCERT: SYRACUSE
DESCRIPTION:The Syracuse Orchestra performs light classical favorites\, patriotic tunes\, and popular standards. All ages are welcome for a relaxed evening of music. This concert is free to attend\, but we kindly ask that you reserve your seats in advance through the ticket link. \n\nPROGRAM:\nSMITH: Star Spangled Banner\nCOLERIDGE-TAYLOR: Dance Negre\nBLAKE: Charleston Rag\nJOPLIN/ROSEMOND: Overture to Treemonisha\nGRANT STILL: Symphony No. 1\, Mvt 3\nCUSTER: Duke Ellington!\nINTERMISSION\nFARRENC: Symphony No. 3\, Mvt 3\nKONDO: Legend of Zelda\nLECUONA: Malaguena from Andalucia\nSKORYK: Melody\nPIAZZOLA: Libertango\nMIRANDA/BRUBAKER: Suite from Hamilton \n\nThanks to our Summer Concert Series sponsors! \n \n  \n  \n \n  \n  \n  \n \n  \n  \n  \n  \n  \n \n  \n  \n \n  \n  \n  \n  \n  \n  \n \n  \n  \n  \n  \n \n  \n  \n  \n  \n  \n  \n \n  \n  \n  \n  \n  \n  \n \n  \n  \n \n  \n  \n  \n \n  \n
URL:https://syracuseorchestra.org/event/summer-concert-syracuse/
LOCATION:Destiny USA – Syracuse Orchestra Underground Lounge\, 1 Destiny USA Drive (on the Commons Level\, across from Burlington)\, Syracuse\, NY\, 13204
CATEGORIES:Summer
ATTACH;FMTTYPE=image/jpeg:https://syracuseorchestra.org/wp-content/uploads/2020/03/SymphoriaSide.jpg
END:VEVENT
END:VCALENDAR