BEGIN:VCALENDAR
VERSION:2.0
PRODID:-//The Syracuse Orchestra - ECPv4.9.4//NONSGML v1.0//EN
CALSCALE:GREGORIAN
METHOD:PUBLISH
X-WR-CALNAME:The Syracuse Orchestra
X-ORIGINAL-URL:https://syracuseorchestra.org
X-WR-CALDESC:Events for The Syracuse Orchestra
BEGIN:VTIMEZONE
TZID:"America/New_York"
BEGIN:DAYLIGHT
TZOFFSETFROM:-0500
TZOFFSETTO:-0400
TZNAME:EDT
DTSTART:20240310T070000
END:DAYLIGHT
BEGIN:STANDARD
TZOFFSETFROM:-0400
TZOFFSETTO:-0500
TZNAME:EST
DTSTART:20241103T060000
END:STANDARD
END:VTIMEZONE
BEGIN:VEVENT
DTSTART;TZID="America/New_York":20240908T190000
DTEND;TZID="America/New_York":20240908T190000
DTSTAMP:20260420T014106
CREATED:20240521T191209Z
LAST-MODIFIED:20240906T132814Z
UID:12931-1725822000-1725822000@syracuseorchestra.org
SUMMARY:SUMMER CONCERT: ROME
DESCRIPTION:UPDATE: Due to predicted rain in Rome on Saturday\, this performance has been moved to Sunday 9/8. \nThe Syracuse Orchestra performs light classical favorites\, patriotic tunes\, and popular standards. All ages are welcome for a relaxed evening of music followed by fireworks. This concert is free to attend and you do not need a ticket. \n  \n\nPROGRAM:\nSMITH: Star Spangled Banner\nSMETANA: Bartered Bride\, Overture\nCOPLAND: Variations on a Shaker Melody\nGRANT STILL: Symphony No. 1\, Mvt 3\nANDERSON: Blue Tango\nBERNSTEIN: West Side Story\, Overture\nLOWDEN: Armed Forces Salute\nINTERMISSION\nWILLIAMS: Summon The Heroes\nVAN HEUSEN/LEWIS: Swinging on a Star\nCUSTER: Salute to the Big Bands\nKONDO: The Legend of Zelda\nWILLIAMS: Harry Potter and the Sorcerer’s Stone: Children’s Suite for Orchestra \nSOUSA: Presidential Polonaise\nBERLIN/HEALY: God Bless America\nTCHAIKOVSKY: 1812 Overture \n\nThanks to our Summer Concert Series sponsors! \n \n  \n  \n \n  \n  \n  \n \n  \n  \n  \n  \n  \n \n  \n  \n \n  \n  \n  \n  \n  \n  \n \n  \n  \n  \n  \n \n  \n  \n  \n  \n  \n  \n \n  \n  \n  \n  \n  \n  \n \n  \n  \n \n  \n  \n  \n \n  \n
URL:https://syracuseorchestra.org/event/summer-concert-rome/
LOCATION:Fort Stanwix National Monument\, 100 N James Street\, Rome\, NY\, 13440
CATEGORIES:Summer
ATTACH;FMTTYPE=image/jpeg:https://syracuseorchestra.org/wp-content/uploads/2021/06/RomeSummerStage.jpg
END:VEVENT
END:VCALENDAR