BEGIN:VCALENDAR
VERSION:2.0
PRODID:-//The Syracuse Orchestra - ECPv4.9.4//NONSGML v1.0//EN
CALSCALE:GREGORIAN
METHOD:PUBLISH
X-WR-CALNAME:The Syracuse Orchestra
X-ORIGINAL-URL:https://syracuseorchestra.org
X-WR-CALDESC:Events for The Syracuse Orchestra
BEGIN:VTIMEZONE
TZID:"America/New_York"
BEGIN:DAYLIGHT
TZOFFSETFROM:-0500
TZOFFSETTO:-0400
TZNAME:EDT
DTSTART:20250309T070000
END:DAYLIGHT
BEGIN:STANDARD
TZOFFSETFROM:-0400
TZOFFSETTO:-0500
TZNAME:EST
DTSTART:20251102T060000
END:STANDARD
END:VTIMEZONE
BEGIN:VEVENT
DTSTART;TZID="America/New_York":20250711T193000
DTEND;TZID="America/New_York":20250711T193000
DTSTAMP:20260419T222521
CREATED:20250430T194251Z
LAST-MODIFIED:20250625T181824Z
UID:15240-1752262200-1752262200@syracuseorchestra.org
SUMMARY:SUMMER CONCERT: CLAYTON
DESCRIPTION:The Syracuse Orchestra pairs some of the most famous classical music selections with popular works from film composers and pieces from Broadway musicals. \nA Sidney T. Cox Memorial Foundation Concert sponsored by The Northern New York Community Foundation. \n\nThanks to our Summer Concert Series sponsors! \n  \n \n
URL:https://syracuseorchestra.org/event/summer-concert-clayton-2/
LOCATION:Clayton Opera House\, 403 Riverside Drive\, Clayton\, NY\, 13624
CATEGORIES:Summer
ATTACH;FMTTYPE=image/png:https://syracuseorchestra.org/wp-content/uploads/2025/04/Orchestra-Spotlight-2000-x-1300.png
END:VEVENT
END:VCALENDAR