BEGIN:VCALENDAR
VERSION:2.0
PRODID:-//The Syracuse Orchestra - ECPv4.9.4//NONSGML v1.0//EN
CALSCALE:GREGORIAN
METHOD:PUBLISH
X-WR-CALNAME:The Syracuse Orchestra
X-ORIGINAL-URL:https://syracuseorchestra.org
X-WR-CALDESC:Events for The Syracuse Orchestra
BEGIN:VTIMEZONE
TZID:"America/New_York"
BEGIN:DAYLIGHT
TZOFFSETFROM:-0500
TZOFFSETTO:-0400
TZNAME:EDT
DTSTART:20250309T070000
END:DAYLIGHT
BEGIN:STANDARD
TZOFFSETFROM:-0400
TZOFFSETTO:-0500
TZNAME:EST
DTSTART:20251102T060000
END:STANDARD
END:VTIMEZONE
BEGIN:VEVENT
DTSTART;TZID="America/New_York":20250726T200000
DTEND;TZID="America/New_York":20250726T200000
DTSTAMP:20260419T222531
CREATED:20250430T200834Z
LAST-MODIFIED:20250625T182408Z
UID:15248-1753560000-1753560000@syracuseorchestra.org
SUMMARY:SUMMER CONCERT: ROME
DESCRIPTION:The Syracuse Orchestra performs light classical favorites\, patriotic tunes\, and popular standards. All ages are welcome for a relaxed evening of music followed by fireworks. This concert is free to attend and you do not need a ticket. \nRAIN DATE: July 27 at 8:00 \n\nPROGRAM\nSMITH: Star Spangled Banner\nBERNSTEIN: Candide Overture\nROGERS/CUSTER: Carousel Waltz\nSTEFFE: Battle Hymn of the Republic\nO’LOUGHLIN: Onward\nLOWDEN: Armed Forces Salute\nSOUSA: Fairest of the Fair\nBERNSTEIN: The Magnificent Seven\nINTERMISSION\nCOPLAND: Buckaroo Holiday\nO’LOUGHLIN: The Greatest Showman\nCUSTER: Dixieland Parade\nBERLIN: God Bless America\nTCHAIKOVSKY: 1812 Overture\nSOUSA: Stars and Stripes Forever \n\nThanks to our Summer Concert Series sponsors! \n  \n \n
URL:https://syracuseorchestra.org/event/summer-concert-rome-2/
LOCATION:Fort Stanwix National Monument\, 100 N James Street\, Rome\, NY\, 13440
CATEGORIES:Summer
ATTACH;FMTTYPE=image/jpeg:https://syracuseorchestra.org/wp-content/uploads/2021/06/RomeSummerStage.jpg
END:VEVENT
END:VCALENDAR