BEGIN:VCALENDAR
VERSION:2.0
PRODID:-//The Syracuse Orchestra - ECPv4.9.4//NONSGML v1.0//EN
CALSCALE:GREGORIAN
METHOD:PUBLISH
X-WR-CALNAME:The Syracuse Orchestra
X-ORIGINAL-URL:https://syracuseorchestra.org
X-WR-CALDESC:Events for The Syracuse Orchestra
BEGIN:VTIMEZONE
TZID:"America/New_York"
BEGIN:DAYLIGHT
TZOFFSETFROM:-0500
TZOFFSETTO:-0400
TZNAME:EDT
DTSTART:20210314T070000
END:DAYLIGHT
BEGIN:STANDARD
TZOFFSETFROM:-0400
TZOFFSETTO:-0500
TZNAME:EST
DTSTART:20211107T060000
END:STANDARD
END:VTIMEZONE
BEGIN:VEVENT
DTSTART;TZID="America/New_York":20210508T103000
DTEND;TZID="America/New_York":20210508T150000
DTSTAMP:20260425T141615
CREATED:20210503T045103Z
LAST-MODIFIED:20210503T045551Z
UID:6581-1620469800-1620486000@syracuseorchestra.org
SUMMARY:SYMPHORIA YOUTH ORCHESTRAS SPRING CONCERT
DESCRIPTION:Hear the Central New York’s most talented young musicians perform a wide variety of chamber music works in the final concert of their 2020-21 season. \nPlease note\, these performances are free of charge.   Groups will perform throughout the day\, and the livestream can be accessed by clicking HERE. \n
URL:https://syracuseorchestra.org/event/symphoria-youth-orchestras-spring-concert/
LOCATION:Livestreamed Event\, Syracuse\, NY\, United States
CATEGORIES:Youth Orchestra
ATTACH;FMTTYPE=image/jpeg:https://syracuseorchestra.org/wp-content/uploads/2019/08/28178046829_4e6fc3b73a_o.jpg
END:VEVENT
END:VCALENDAR