BEGIN:VCALENDAR
VERSION:2.0
PRODID:-//The Syracuse Orchestra - ECPv4.9.4//NONSGML v1.0//EN
CALSCALE:GREGORIAN
METHOD:PUBLISH
X-WR-CALNAME:The Syracuse Orchestra
X-ORIGINAL-URL:https://syracuseorchestra.org
X-WR-CALDESC:Events for The Syracuse Orchestra
BEGIN:VTIMEZONE
TZID:"America/New_York"
BEGIN:DAYLIGHT
TZOFFSETFROM:-0500
TZOFFSETTO:-0400
TZNAME:EDT
DTSTART:20240310T070000
END:DAYLIGHT
BEGIN:STANDARD
TZOFFSETFROM:-0400
TZOFFSETTO:-0500
TZNAME:EST
DTSTART:20241103T060000
END:STANDARD
END:VTIMEZONE
BEGIN:VEVENT
DTSTART;TZID="America/New_York":20240505T120000
DTEND;TZID="America/New_York":20240505T190000
DTSTAMP:20260421T045122
CREATED:20240425T181145Z
LAST-MODIFIED:20240425T181145Z
UID:12619-1714910400-1714935600@syracuseorchestra.org
SUMMARY:SYO OPEN HOUSE
DESCRIPTION:Come visit our Syracuse Youth Orchestra Open House to get an inside look at a working rehearsal.  See the dedicated young musicians working in each ensemble and learn about the Youth Orchestra programs as the students prepare for the final concert of the 2023-24 season on May 19th.\n\nNOTE: Auditions for the 2024-25 season will be held in early June\, and additional information and audition registration is available here.\n
URL:https://syracuseorchestra.org/event/syo-open-house/
LOCATION:Destiny USA – Syracuse Orchestra Underground Lounge\, 1 Destiny USA Drive (on the Commons Level\, across from Burlington)\, Syracuse\, NY\, 13204
CATEGORIES:Youth Orchestra
ATTACH;FMTTYPE=image/jpeg:https://syracuseorchestra.org/wp-content/uploads/2021/05/syo-2.jpg
END:VEVENT
END:VCALENDAR